BEGIN:VCALENDAR
VERSION:2.0
BEGIN:VEVENT
SEQUENCE:0
UID:98e6f17209029f4ae6dc9d88ec8eac2c
SUMMARY:✅Round 2 (13.05)  Moscow Raceway:
LOCATION:Премьерный Фан Чемпионат в классе А/М Волга ГАЗ 31105
DESCRIPTION:Расписание:\n
DTSTAMP:20260520T170000Z
DTSTART:20260520T170000Z
DTEND:20260520T180000Z
CREATED:20260425T215900Z
LAST-MODIFIED:20260425T215900Z
URL:https://yoklmnracing.ru/championships/stages/2291
TRANSP:OPAQUE
BEGIN:VALARM
TRIGGER:-PT24H
ACTION:DISPLAY
END:VALARM
BEGIN:VALARM
TRIGGER:-PT1H
ACTION:DISPLAY
END:VALARM
END:VEVENT
END:VCALENDAR