BEGIN:VCALENDAR
VERSION:2.0
BEGIN:VEVENT
SEQUENCE:0
UID:1177967c7957072da3dc1db4ceb30e7a
SUMMARY:✅Round 2 (13.05)  Grobnik Circuit:
LOCATION:Премьерный Фан Чемпионат в классе А/М Волга ГАЗ 31105
DESCRIPTION:Расписание:\n
DTSTAMP:20260513T170000Z
DTSTART:20260513T170000Z
DTEND:20260513T180000Z
CREATED:20260425T215900Z
LAST-MODIFIED:20260425T215900Z
URL:https://yoklmnracing.ru/championships/stages/2290
TRANSP:OPAQUE
BEGIN:VALARM
TRIGGER:-PT24H
ACTION:DISPLAY
END:VALARM
BEGIN:VALARM
TRIGGER:-PT1H
ACTION:DISPLAY
END:VALARM
END:VEVENT
END:VCALENDAR