BEGIN:VCALENDAR
VERSION:2.0
BEGIN:VEVENT
SEQUENCE:0
UID:43351f7bf9a215be70c2c2caa7555002
SUMMARY:✅Round 1 (06.05)  Auto24Ring:
LOCATION:Премьерный Фан Чемпионат в классе А/М Волга ГАЗ 31105
DESCRIPTION:Расписание:\n
DTSTAMP:20260506T170000Z
DTSTART:20260506T170000Z
DTEND:20260506T180000Z
CREATED:20260425T215900Z
LAST-MODIFIED:20260425T215900Z
URL:https://yoklmnracing.ru/championships/stages/2289
TRANSP:OPAQUE
BEGIN:VALARM
TRIGGER:-PT24H
ACTION:DISPLAY
END:VALARM
BEGIN:VALARM
TRIGGER:-PT1H
ACTION:DISPLAY
END:VALARM
END:VEVENT
END:VCALENDAR